BEGIN:VCALENDAR
VERSION:2.0
PRODID:-//Glory Harbor - ECPv6.15.20//NONSGML v1.0//EN
CALSCALE:GREGORIAN
METHOD:PUBLISH
X-ORIGINAL-URL:https://gloryharbor.org
X-WR-CALDESC:Events for Glory Harbor
REFRESH-INTERVAL;VALUE=DURATION:PT1H
X-Robots-Tag:noindex
X-PUBLISHED-TTL:PT1H
BEGIN:VTIMEZONE
TZID:Asia/Dubai
BEGIN:STANDARD
TZOFFSETFROM:+0400
TZOFFSETTO:+0400
TZNAME:+04
DTSTART:20230101T000000
END:STANDARD
END:VTIMEZONE
BEGIN:VEVENT
DTSTART;VALUE=DATE:20240329
DTEND;VALUE=DATE:20240331
DTSTAMP:20260423T143348
CREATED:20230909T090050Z
LAST-MODIFIED:20240324T104241Z
UID:81-1711670400-1711843199@gloryharbor.org
SUMMARY:40 Days Fasting and Prayers
DESCRIPTION:12 Hours Prayer Conference (The Ascension)\nCome join us for a powerful day of prayer at our 2024 annual prayer conference themed The Ascension! This in-person gathering will be held at 9004 Harford Rd\, Parkville\, MD 21234\, USA. Spend 12 hours in prayer\, worship\, and fellowship with like-minded individuals. Let’s come together to seek the presence of God and experience His blessings. Don’t miss out on this incredible opportunity to deepen your spiritual connection and grow in faith. See you there!
URL:https://gloryharbor.org/event/sisters-conference-2023/
LOCATION:Glory Harbor Campus\, 9004 Harford rd\, Parkville\, MD\, 21234\, United States
CATEGORIES:Special Occasions
ATTACH;FMTTYPE=image/jpeg:https://gloryharbor.org/wp-content/uploads/2023/09/Copy-of-Revival-Worship-Church-Flyer-2.jpg
ORGANIZER;CN="STGCI Glory Harbor":MAILTO:stcgiglory@gmail.com
END:VEVENT
END:VCALENDAR